BEGIN:VCALENDAR
VERSION:2.0
PRODID:-//Ohio Arts Council - ECPv6.15.20//NONSGML v1.0//EN
CALSCALE:GREGORIAN
METHOD:PUBLISH
X-ORIGINAL-URL:https://ohioartscouncil.org
X-WR-CALDESC:Events for Ohio Arts Council
REFRESH-INTERVAL;VALUE=DURATION:PT1H
X-Robots-Tag:noindex
X-PUBLISHED-TTL:PT1H
BEGIN:VTIMEZONE
TZID:America/New_York
BEGIN:DAYLIGHT
TZOFFSETFROM:-0500
TZOFFSETTO:-0400
TZNAME:EDT
DTSTART:20210314T070000
END:DAYLIGHT
BEGIN:STANDARD
TZOFFSETFROM:-0400
TZOFFSETTO:-0500
TZNAME:EST
DTSTART:20211107T060000
END:STANDARD
BEGIN:DAYLIGHT
TZOFFSETFROM:-0500
TZOFFSETTO:-0400
TZNAME:EDT
DTSTART:20220313T070000
END:DAYLIGHT
BEGIN:STANDARD
TZOFFSETFROM:-0400
TZOFFSETTO:-0500
TZNAME:EST
DTSTART:20221106T060000
END:STANDARD
BEGIN:DAYLIGHT
TZOFFSETFROM:-0500
TZOFFSETTO:-0400
TZNAME:EDT
DTSTART:20230312T070000
END:DAYLIGHT
BEGIN:STANDARD
TZOFFSETFROM:-0400
TZOFFSETTO:-0500
TZNAME:EST
DTSTART:20231105T060000
END:STANDARD
BEGIN:DAYLIGHT
TZOFFSETFROM:-0500
TZOFFSETTO:-0400
TZNAME:EDT
DTSTART:20240310T070000
END:DAYLIGHT
BEGIN:STANDARD
TZOFFSETFROM:-0400
TZOFFSETTO:-0500
TZNAME:EST
DTSTART:20241103T060000
END:STANDARD
END:VTIMEZONE
BEGIN:VEVENT
DTSTART;TZID=America/New_York:20230926T110000
DTEND;TZID=America/New_York:20230926T120000
DTSTAMP:20260423T135130
CREATED:20230616T205606Z
LAST-MODIFIED:20230616T205606Z
UID:1686-1695726000-1695729600@ohioartscouncil.org
SUMMARY:A New World: Ohio Women to Watch 2023 Artist Talk with Sharon Koelblinger
DESCRIPTION:Artists will share their journey\, inspirations\, and processes in livestreamed\, educational artist talks\, followed by a Q&A with the audience. Watch live on Facebook or register at riffegallery.eventbrite.com \nImage Credit: Sharon Koelblinger\, “Maybe the Moon Doesn’t Want Us 3/6”
URL:https://ohioartscouncil.org/event/a-new-world-ohio-women-to-watch-2023-artist-talk-with-sharon-koelblinger/
LOCATION:Riffe Gallery Online
CATEGORIES:Artist Talk,Exhibition
ATTACH;FMTTYPE=image/jpeg:https://ohioartscouncil.org/wp-content/uploads/2023/06/Sharon-Koelblinger.jpg
END:VEVENT
BEGIN:VEVENT
DTSTART;TZID=America/New_York:20230919T110000
DTEND;TZID=America/New_York:20230919T120000
DTSTAMP:20260423T135130
CREATED:20230616T205231Z
LAST-MODIFIED:20230616T205231Z
UID:1684-1695121200-1695124800@ohioartscouncil.org
SUMMARY:A New World: Ohio Women to Watch 2023 Artist Talk with Erykah Townsend
DESCRIPTION:Artists will share their journey\, inspirations\, and processes in live-streamed\, educational artist talks\, followed by a Q&A with the audience. Watch live on Facebook or register at riffegallery.eventbrite.com \nImage Credit: Erykah Townsend\, “Reminder”
URL:https://ohioartscouncil.org/event/a-new-world-ohio-women-to-watch-2023-artist-talk-with-erykah-townsend/
LOCATION:Riffe Gallery Online
CATEGORIES:Artist Talk,Exhibition
ATTACH;FMTTYPE=image/jpeg:https://ohioartscouncil.org/wp-content/uploads/2023/06/Erykah-Townsend.jpg
END:VEVENT
BEGIN:VEVENT
DTSTART;TZID=America/New_York:20230912T110000
DTEND;TZID=America/New_York:20230912T120000
DTSTAMP:20260423T135130
CREATED:20230616T204929Z
LAST-MODIFIED:20230616T204929Z
UID:1682-1694516400-1694520000@ohioartscouncil.org
SUMMARY:A New World: Ohio Women to Watch 2023 Artist Talk with Calista Lyon
DESCRIPTION:Artists will share their journey\, inspirations\, and processes in livestreamed\, educational artist talks\, followed by a Q&A with the audience. Watch live on Facebook or register at riffegallery.eventbrite.com \nImage Credit: Calista Lyon\, “Breaking Water”
URL:https://ohioartscouncil.org/event/a-new-world-ohio-women-to-watch-2023-artist-talk-with-calista-lyon/
LOCATION:Riffe Gallery Online
CATEGORIES:Artist Talk,Exhibition
ATTACH;FMTTYPE=image/jpeg:https://ohioartscouncil.org/wp-content/uploads/2023/06/Calista-Lyon.jpg
END:VEVENT
BEGIN:VEVENT
DTSTART;TZID=America/New_York:20230829T110000
DTEND;TZID=America/New_York:20230829T120000
DTSTAMP:20260423T135130
CREATED:20230616T204705Z
LAST-MODIFIED:20230616T204705Z
UID:1680-1693306800-1693310400@ohioartscouncil.org
SUMMARY:A New World: Ohio Women to Watch 2023 Artist Talk with Migiwa Orimo
DESCRIPTION:Artists will share their journey\, inspirations\, and processes in live-streamed\, educational artist talks\, followed by a Q&A with the audience. Watch live on Facebook or register at riffegallery.eventbrite.com \nImage Credit: Migiwa Orimo\, “Strangers Bundles Hours of Woods” (detail)
URL:https://ohioartscouncil.org/event/a-new-world-ohio-women-to-watch-2023-artist-talk-with-migiwa-orimo/
LOCATION:Riffe Gallery Online
CATEGORIES:Artist Talk,Exhibition
ATTACH;FMTTYPE=image/jpeg:https://ohioartscouncil.org/wp-content/uploads/2023/06/Migiwa-Orimo.jpg
END:VEVENT
BEGIN:VEVENT
DTSTART;TZID=America/New_York:20230815T110000
DTEND;TZID=America/New_York:20230815T120000
DTSTAMP:20260423T135130
CREATED:20230616T204129Z
LAST-MODIFIED:20230616T204129Z
UID:1678-1692097200-1692100800@ohioartscouncil.org
SUMMARY:A New World: Ohio Women to Watch 2023 Artist Talk with Mychaelyn Michalec
DESCRIPTION:Artists will share their journey\, inspirations\, and processes in live-streamed\, educational artist talks\, followed by a Q&A with the audience. Watch live on Facebook or Zoom. \nImage Credit: Mychaelyn Michalec\, “There Are Two Roles For Women”
URL:https://ohioartscouncil.org/event/a-new-world-ohio-women-to-watch-2023-artist-talk-with-mychaelyn-michalec/
LOCATION:Riffe Gallery Online
CATEGORIES:Artist Talk,Exhibition
ATTACH;FMTTYPE=image/jpeg:https://ohioartscouncil.org/wp-content/uploads/2023/06/MM.jpg
END:VEVENT
BEGIN:VEVENT
DTSTART;TZID=America/New_York:20230812T130000
DTEND;TZID=America/New_York:20230812T140000
DTSTAMP:20260423T135130
CREATED:20230616T133024Z
LAST-MODIFIED:20230607T181359Z
UID:1674-1691845200-1691848800@ohioartscouncil.org
SUMMARY:A New World Friends and Family Workshop with Emily Moores
DESCRIPTION:Emily Moores—a 2020 Women to Watch artist—creates immersive works inviting viewers to playfully engage\, experience and newly understand objects and spaces. In this Friends and Family Workshop\, participants will dip a toe into the art of improvisational installation with small-scale mobiles—engaging their whimsy and a bit of balance to create a kinetic sculpture. Space is limited. Registration is required. Register at riffegallery.eventbrite.com to secure your seat. \n\n\n\n\n\n\nImage Credit: Emily Moores\, “The Waterfall”
URL:https://ohioartscouncil.org/event/a-new-world-friends-and-family-workshop-with-emily-moores/
LOCATION:Riffe Gallery\, 77 S. High St.\, Columbus\, OH\, 43215-3414\, United States
CATEGORIES:Exhibition,Workshop
ATTACH;FMTTYPE=image/jpeg:https://ohioartscouncil.org/wp-content/uploads/2023/06/Moores_FriendsandFamily_image.jpg
END:VEVENT
BEGIN:VEVENT
DTSTART;TZID=America/New_York:20230803T173000
DTEND;TZID=America/New_York:20230803T200000
DTSTAMP:20260423T135130
CREATED:20230616T133052Z
LAST-MODIFIED:20230607T180750Z
UID:1672-1691083800-1691092800@ohioartscouncil.org
SUMMARY:A New World Creative Writing Workshop with Cynthia Amoah
DESCRIPTION:Join Ghanaian-American writer\, spoken word poet\, and arts educator Cynthia Amoah for a contemplative and enriching creative writing workshop. Participants will generate new descriptive language to deepen their experience with art and explore poetic traditions\, sparking new insights within themselves. Attend in person or join remotely via Zoom. Registration for either option is required. \nImage Courtesy of Cynthia Amoah
URL:https://ohioartscouncil.org/event/a-new-world-creative-writing-workshop-with-cynthia-amoah/
LOCATION:Riffe Gallery\, 77 S. High St.\, Columbus\, OH\, 43215-3414\, United States
CATEGORIES:Exhibition,Workshop
ATTACH;FMTTYPE=image/jpeg:https://ohioartscouncil.org/wp-content/uploads/2023/06/Cynthia-Amoah-Headshot.jpg
END:VEVENT
BEGIN:VEVENT
DTSTART;TZID=America/New_York:20230729T140000
DTEND;TZID=America/New_York:20230729T160000
DTSTAMP:20260423T135130
CREATED:20230616T133045Z
LAST-MODIFIED:20230607T180334Z
UID:1670-1690639200-1690646400@ohioartscouncil.org
SUMMARY:A New World: Ohio Women to Watch 2023 Opening Reception
DESCRIPTION:Don’t miss your first opportunity to stop by the gallery\, mingle with the exhibiting artists\, and enjoy live music from Sue Harshe. \nImage Credit: Kara Gut\, “Kenosis Painting 1”
URL:https://ohioartscouncil.org/event/a-new-world-ohio-women-to-watch-2023-opening-reception/
LOCATION:Riffe Gallery\, 77 S. High St.\, Columbus\, OH\, 43215-3414\, United States
CATEGORIES:Exhibition
ATTACH;FMTTYPE=image/jpeg:https://ohioartscouncil.org/wp-content/uploads/2023/06/Opening-Reception.jpg
END:VEVENT
BEGIN:VEVENT
DTSTART;TZID=America/New_York:20230729T120000
DTEND;TZID=America/New_York:20230729T120000
DTSTAMP:20260423T135130
CREATED:20230616T133044Z
LAST-MODIFIED:20230616T172359Z
UID:1668-1690632000-1690632000@ohioartscouncil.org
SUMMARY:A New World: Ohio Women to Watch 2023 Curator's Tour Video Premiere
DESCRIPTION:Join Matt Distel and Sso-Rha Kang for a one-hour virtual exhibition tour. Deepen your understanding of the exhibit\, the artists\, and of course\, hear about those wonderful details and connections only a curator can reveal. Find us online at facebook.com/riffegallery/ or youtube.com/@OhioArtsCouncil \nImage Credit: Krstina Paabus\, “Fail-Safe”
URL:https://ohioartscouncil.org/event/a-new-world-ohio-women-to-watch-2023-curators-tour-video-premiere/
LOCATION:Riffe Gallery Online
CATEGORIES:Exhibition,Tour
ATTACH;FMTTYPE=image/jpeg:https://ohioartscouncil.org/wp-content/uploads/2023/06/Curators-Tour.jpg
END:VEVENT
BEGIN:VEVENT
DTSTART;TZID=America/New_York:20230627T110000
DTEND;TZID=America/New_York:20230627T120000
DTSTAMP:20260423T135130
CREATED:20230317T133011Z
LAST-MODIFIED:20230307T213052Z
UID:1559-1687863600-1687867200@ohioartscouncil.org
SUMMARY:Interwoven: The Many Voices of Fiber Artist Talk with Deborah Silver
DESCRIPTION:Artists will share their journey\, inspirations\, and processes in livestreamed\, educational artist talks\, followed by a Q&A with the audience. Watch live on Facebook or Zoom. \nImage Credit: Deborah Silver\, “I Work in a Place with No Windows”
URL:https://ohioartscouncil.org/event/interwoven-the-many-voices-of-fiber-artist-talk-with-deborah-silver/
LOCATION:Riffe Gallery Online
CATEGORIES:Artist Talk,Exhibition
ATTACH;FMTTYPE=image/jpeg:https://ohioartscouncil.org/wp-content/uploads/2023/03/Silver-.jpg
END:VEVENT
BEGIN:VEVENT
DTSTART;TZID=America/New_York:20230613T110000
DTEND;TZID=America/New_York:20230613T120000
DTSTAMP:20260423T135130
CREATED:20230317T133019Z
LAST-MODIFIED:20230307T212801Z
UID:1557-1686654000-1686657600@ohioartscouncil.org
SUMMARY:Interwoven: The Many Voices of Fiber Artist Talk with Priscilla Roggenkamp
DESCRIPTION:Artists will share their journey\, inspirations\, and processes in livestreamed\, educational artist talks\, followed by a Q&A with the audience. Watch live on Facebook or Zoom. \nImage Credit: Priscilla Roggenkamp\, “Not Our Bodies\, Ourselves”
URL:https://ohioartscouncil.org/event/interwoven-the-many-voices-of-fiber-artist-talk-with-priscilla-roggenkamp/
LOCATION:Riffe Gallery Online
CATEGORIES:Artist Talk,Exhibition
ATTACH;FMTTYPE=image/jpeg:https://ohioartscouncil.org/wp-content/uploads/2023/03/Roggenkamp.jpg
END:VEVENT
BEGIN:VEVENT
DTSTART;TZID=America/New_York:20230606T110000
DTEND;TZID=America/New_York:20230606T120000
DTSTAMP:20260423T135130
CREATED:20230317T133057Z
LAST-MODIFIED:20230307T212508Z
UID:1555-1686049200-1686052800@ohioartscouncil.org
SUMMARY:Interwoven: The Many Voices of Fiber Artist Talk with Clare Murray Adams
DESCRIPTION:Artists will share their journey\, inspirations\, and processes in livestreamed\, educational artist talks\, followed by a Q&A with the audience. Watch live on Facebook or Zoom. \nImage Credit: Clare Murray Adams\, “Bean Dreams”
URL:https://ohioartscouncil.org/event/interwoven-the-many-voices-of-fiber-artist-talk-with-clare-murray-adams/
LOCATION:Riffe Gallery Online
CATEGORIES:Artist Talk,Exhibition
ATTACH;FMTTYPE=image/jpeg:https://ohioartscouncil.org/wp-content/uploads/2023/03/Murray-Adams.jpg
END:VEVENT
BEGIN:VEVENT
DTSTART;TZID=America/New_York:20230523T110000
DTEND;TZID=America/New_York:20230523T120000
DTSTAMP:20260423T135130
CREATED:20230317T133049Z
LAST-MODIFIED:20230307T212149Z
UID:1553-1684839600-1684843200@ohioartscouncil.org
SUMMARY:Interwoven: The Many Voices of Fiber Artist Talk with Melissa Haviland
DESCRIPTION:Artists will share their journey\, inspirations\, and processes in livestreamed\, educational artist talks\, followed by a Q&A with the audience. Watch live on Facebook or Zoom. \nImage Credit: Melissa Haviland\, “Curiouser”
URL:https://ohioartscouncil.org/event/interwoven-the-many-voices-of-fiber-artist-talk-with-melissa-haviland/
LOCATION:Riffe Gallery Online
CATEGORIES:Artist Talk,Exhibition
ATTACH;FMTTYPE=image/jpeg:https://ohioartscouncil.org/wp-content/uploads/2023/03/Haviland.jpg
END:VEVENT
BEGIN:VEVENT
DTSTART;TZID=America/New_York:20230509T110000
DTEND;TZID=America/New_York:20230509T120000
DTSTAMP:20260423T135130
CREATED:20230317T133010Z
LAST-MODIFIED:20230307T210623Z
UID:1550-1683630000-1683633600@ohioartscouncil.org
SUMMARY:Interwoven: The Many Voices of Fiber Artist Talk with Leah Wong
DESCRIPTION:Artists will share their journey\, inspirations\, and processes in livestreamed\, educational artist talks\, followed by a Q&A with the audience. Watch live on Facebook Live or Zoom. \nImage Credit: Leah Wong\, “Strip of Light”
URL:https://ohioartscouncil.org/event/interwoven-the-many-voices-of-fiber-artist-talk-with-leah-wong/
LOCATION:Riffe Gallery Online
CATEGORIES:Artist Talk,Exhibition
ATTACH;FMTTYPE=image/jpeg:https://ohioartscouncil.org/wp-content/uploads/2023/03/Wong.jpg
END:VEVENT
BEGIN:VEVENT
DTSTART;TZID=America/New_York:20230506T130000
DTEND;TZID=America/New_York:20230506T140000
DTSTAMP:20260423T135130
CREATED:20230317T133019Z
LAST-MODIFIED:20230307T204327Z
UID:1548-1683378000-1683381600@ohioartscouncil.org
SUMMARY:Interwoven Friends and Family Workshop with Sandy Shelenberger
DESCRIPTION:Textile artist Sandy Shelenberger investigates the interplay between stitching\, fiber\, and encaustics to challenge boundaries within the fiber arts landscape. In this interactive workshop participants will create their own collages with encaustic medium—a mixture of beeswax and damar resin. All materials will be provided. Space is limited. Registration is required. \nImage Credit Sandy Shelenberger\, Diamonds 1″
URL:https://ohioartscouncil.org/event/interwoven-friends-and-family-workshop-with-sandy-shelenberger/
LOCATION:Riffe Gallery\, 77 S. High St.\, Columbus\, OH\, 43215-3414\, United States
CATEGORIES:Exhibition,Workshop
ATTACH;FMTTYPE=image/jpeg:https://ohioartscouncil.org/wp-content/uploads/2023/03/Friends-and-Family.jpg
END:VEVENT
BEGIN:VEVENT
DTSTART;TZID=America/New_York:20230504T173000
DTEND;TZID=America/New_York:20230504T200000
DTSTAMP:20260423T135130
CREATED:20230317T133037Z
LAST-MODIFIED:20230307T203410Z
UID:1546-1683221400-1683230400@ohioartscouncil.org
SUMMARY:Interwoven Creative Writing Workshop with Dionne Custer Edwards
DESCRIPTION:Join writer\, poet\, and arts educator Dionne Custer Edwards for an exploratory and multisensory creative writing workshop. Participants will experiment with creative use of language and writing as an entry point for collaborative looking and listening.
URL:https://ohioartscouncil.org/event/interwoven-creative-writing-workshop-with-dionne-custer-edwards/
LOCATION:Riffe Gallery\, 77 S. High St.\, Columbus\, OH\, 43215-3414\, United States
CATEGORIES:Exhibition,Workshop
ATTACH;FMTTYPE=image/jpeg:https://ohioartscouncil.org/wp-content/uploads/2023/03/Creative-Writing.jpg
END:VEVENT
BEGIN:VEVENT
DTSTART;TZID=America/New_York:20230429T140000
DTEND;TZID=America/New_York:20230429T160000
DTSTAMP:20260423T135130
CREATED:20230317T133023Z
LAST-MODIFIED:20230307T202734Z
UID:1544-1682776800-1682784000@ohioartscouncil.org
SUMMARY:Interwoven: The Many Voices of Fiber Opening Reception
DESCRIPTION:Don’t miss your first opportunity to stop by the gallery\, mingle with the exhibiting artists\, and enjoy live music from Derek DiCenzo (Bass) and Chris Brown (Piano).  \nImage Credit: Laura Alexander\, “Radiant”
URL:https://ohioartscouncil.org/event/interwoven-the-many-voices-of-fiber-opening-reception/
LOCATION:Riffe Gallery\, 77 S. High St.\, Columbus\, OH\, 43215-3414\, United States
CATEGORIES:Exhibition
ATTACH;FMTTYPE=image/jpeg:https://ohioartscouncil.org/wp-content/uploads/2023/03/Opening-Reception.jpg
END:VEVENT
BEGIN:VEVENT
DTSTART;TZID=America/New_York:20230429T120000
DTEND;TZID=America/New_York:20230429T130000
DTSTAMP:20260423T135130
CREATED:20230317T133005Z
LAST-MODIFIED:20230307T202913Z
UID:1542-1682769600-1682773200@ohioartscouncil.org
SUMMARY:Interwoven: The Many Voices of Fiber Curator's Tour Video Premiere
DESCRIPTION:Join us and curator Tracy Rieger for a one-hour virtual exhibition tour. Deepen your understanding of the exhibit\, the artists\, and of course\, hear about those wonderful details and connections only a curator can reveal. Find us online at facebook.com/riffegallery/ or youtube.com/@OhioArtsCouncil \nImage Credit: Lauren Davies\, “Cascade”
URL:https://ohioartscouncil.org/event/interwoven-the-many-voices-of-fiber-curators-tour-video-premiere/
LOCATION:Riffe Gallery Online
CATEGORIES:Exhibition,Tour
ATTACH;FMTTYPE=image/jpeg:https://ohioartscouncil.org/wp-content/uploads/2023/03/Tour-Premiere.jpg
END:VEVENT
BEGIN:VEVENT
DTSTART;TZID=America/New_York:20230405T123000
DTEND;TZID=America/New_York:20230405T133000
DTSTAMP:20260423T135130
CREATED:20221216T143057Z
LAST-MODIFIED:20221216T151226Z
UID:1322-1680697800-1680701400@ohioartscouncil.org
SUMMARY:Arts Beacon of Light Artist Talk with Karen Snouffer
DESCRIPTION:Artists will share their journey\, inspirations\, and processes in live-streamed\, educational artist talks\, followed by a Q&A with the audience. Watch live on Facebook or register at riffegallery.eventbrite.com  \nImage Creidt: Karen Snouffer\, “Cursive Tower”
URL:https://ohioartscouncil.org/event/arts-beacon-of-light-artist-talk-with-karen-snouffer/
LOCATION:Riffe Gallery Online
CATEGORIES:Artist Talk,Exhibition
ATTACH;FMTTYPE=image/jpeg:https://ohioartscouncil.org/wp-content/uploads/2022/12/52470964214_11ec377cb4_o.jpg
END:VEVENT
BEGIN:VEVENT
DTSTART;TZID=America/New_York:20230322T123000
DTEND;TZID=America/New_York:20230322T133000
DTSTAMP:20260423T135130
CREATED:20221216T143052Z
LAST-MODIFIED:20221216T151410Z
UID:1320-1679488200-1679491800@ohioartscouncil.org
SUMMARY:Arts Beacon of Light Artist Talk with Duarte Brown
DESCRIPTION:Artists will share their journey\, inspirations\, and processes in livestreamed\, educational artist talks\, followed by a Q&A with the audience. Watch live on Facebook or register at riffegallery.eventbrite.com  \nImage Credit: Duarte Brown\, “Khamall Live Painting Parsons Library”
URL:https://ohioartscouncil.org/event/arts-beacon-of-light-artist-talk-with-duarte-brown/
LOCATION:Riffe Gallery Online
CATEGORIES:Artist Talk,Exhibition
ATTACH;FMTTYPE=image/jpeg:https://ohioartscouncil.org/wp-content/uploads/2022/12/52470960409_e402279437_o.jpg
END:VEVENT
BEGIN:VEVENT
DTSTART;TZID=America/New_York:20230308T123000
DTEND;TZID=America/New_York:20230308T133000
DTSTAMP:20260423T135130
CREATED:20221216T143028Z
LAST-MODIFIED:20221216T151745Z
UID:1318-1678278600-1678282200@ohioartscouncil.org
SUMMARY:Arts Beacon of Light Artist Talk with Charlotte A. Lees
DESCRIPTION:Artists will share their journey\, inspirations\, and processes in live-streamed\, educational artist talks\, followed by a Q&A with the audience. Watch live on Facebook or register at riffegallery.eventbrite.com \nImage Credit: Charlotte A. Lees\, “Jazz”
URL:https://ohioartscouncil.org/event/arts-beacon-of-light-artist-talk-with-charlotte-a-lees/
LOCATION:Riffe Gallery Online
CATEGORIES:Artist Talk,Exhibition
ATTACH;FMTTYPE=image/jpeg:https://ohioartscouncil.org/wp-content/uploads/2022/12/52471154270_12c761aab6_o.jpg
END:VEVENT
BEGIN:VEVENT
DTSTART;TZID=America/New_York:20230301T123000
DTEND;TZID=America/New_York:20230301T133000
DTSTAMP:20260423T135130
CREATED:20221216T143009Z
LAST-MODIFIED:20221216T151937Z
UID:1316-1677673800-1677677400@ohioartscouncil.org
SUMMARY:Arts Beacon of Light Artist Talk with Cody Miller
DESCRIPTION:Artists will share their journey\, inspirations\, and processes in livestreamed\, educational artist talks\, followed by a Q&A with the audience. Watch live on Facebook or register at riffegallery.eventbrite.com  \nImage Credit: Cody Miller\, “Precipice”
URL:https://ohioartscouncil.org/event/arts-beacon-of-light-artist-talk-with-cody-miller/
LOCATION:Riffe Gallery Online
CATEGORIES:Artist Talk,Exhibition
ATTACH;FMTTYPE=image/jpeg:https://ohioartscouncil.org/wp-content/uploads/2022/12/52471152105_8e2d4f22b2_o.jpg
END:VEVENT
BEGIN:VEVENT
DTSTART;TZID=America/New_York:20230215T123000
DTEND;TZID=America/New_York:20230215T133000
DTSTAMP:20260423T135130
CREATED:20221216T143038Z
LAST-MODIFIED:20221216T151553Z
UID:1313-1676464200-1676467800@ohioartscouncil.org
SUMMARY:Arts Beacon of Light Artist Talk with Terri Kern
DESCRIPTION:Artists will share their journey\, inspirations\, and processes in livestreamed\, educational artist talks\, followed by a Q&A with the audience. Watch live on Facebook or register at riffegallery.eventbrite.com  \nImage Credit: Terri Kern\, “The Dragon Within”
URL:https://ohioartscouncil.org/event/arts-beacon-of-light-artist-talk-with-terri-kern/
LOCATION:Riffe Gallery Online
CATEGORIES:Artist Talk,Exhibition
ATTACH;FMTTYPE=image/jpeg:https://ohioartscouncil.org/wp-content/uploads/2022/12/52471154410_39033b2e05_o.jpg
END:VEVENT
BEGIN:VEVENT
DTSTART;TZID=America/New_York:20230211T130000
DTEND;TZID=America/New_York:20230211T140000
DTSTAMP:20260423T135130
CREATED:20221216T143029Z
LAST-MODIFIED:20221216T151645Z
UID:1311-1676120400-1676124000@ohioartscouncil.org
SUMMARY:Arts Beacon of Light Friends and Family Workshop with Lori Esposito
DESCRIPTION:Lori Esposito carries evaporating paintings during walks to amplify her senses and connect with her environment. In this Friends and Family Workshop participants will engage in a group experience slow walking or sitting to create their own evaporation artworks as an act of self-care. All ages and abilities are welcome. Register online at riffegallery.eventbrite.com \nImage Credit: Lori Esposito\, “Green evaporation walking plate”
URL:https://ohioartscouncil.org/event/arts-beacon-of-light-friends-and-family-workshop-with-lori-esposito/
LOCATION:Riffe Gallery\, 77 S. High St.\, Columbus\, OH\, 43215-3414\, United States
CATEGORIES:Exhibition,Workshop
ATTACH;FMTTYPE=image/jpeg:https://ohioartscouncil.org/wp-content/uploads/2022/12/52470693611_8091d0c5c1_b.jpg
END:VEVENT
BEGIN:VEVENT
DTSTART;TZID=America/New_York:20230204T140000
DTEND;TZID=America/New_York:20230204T160000
DTSTAMP:20260423T135130
CREATED:20221216T143012Z
LAST-MODIFIED:20221216T151840Z
UID:1309-1675519200-1675526400@ohioartscouncil.org
SUMMARY:Arts Beacon of Light Opening Reception
DESCRIPTION:Don’t miss your opportunity to stop by the gallery\, mingle with the exhibiting artists\, and enjoy live music from Derek DiCenzo (Bass) and Chris Brown (Piano). Register online at riffegallery.eventbrite.com \nImage Credit: Tom Megalis\,”Distancing”
URL:https://ohioartscouncil.org/event/arts-beacon-of-light-opening-reception/
LOCATION:Riffe Gallery\, 77 S. High St.\, Columbus\, OH\, 43215-3414\, United States
CATEGORIES:Exhibition
ATTACH;FMTTYPE=image/jpeg:https://ohioartscouncil.org/wp-content/uploads/2022/12/52471147680_f51eb2635a_o.jpg
END:VEVENT
BEGIN:VEVENT
DTSTART;TZID=America/New_York:20230203T120000
DTEND;TZID=America/New_York:20230203T130000
DTSTAMP:20260423T135130
CREATED:20221216T143044Z
LAST-MODIFIED:20221216T151455Z
UID:1307-1675425600-1675429200@ohioartscouncil.org
SUMMARY:Arts Beacon of Light Curator's Tour with Katie Monahan
DESCRIPTION:Join the gallery and Ohio Arts Council staff Katie Monahan on Facebook for a live-streamed tour of the work in the exhibition. Register online at riffegallery.eventbrite.com or log on at Facebook.com/riffegallery/live. \nImage Credit: Stephen Tomasko\, “Untitled”
URL:https://ohioartscouncil.org/event/arts-beacon-of-light-curators-tour-with-katie-monahan/
LOCATION:Riffe Gallery Online
CATEGORIES:Exhibition,Tour
ATTACH;FMTTYPE=image/jpeg:https://ohioartscouncil.org/wp-content/uploads/2022/12/52471149860_ba3974da3e_o.jpg
END:VEVENT
BEGIN:VEVENT
DTSTART;TZID=America/New_York:20230202T173000
DTEND;TZID=America/New_York:20230202T200000
DTSTAMP:20260423T135130
CREATED:20221216T143025Z
LAST-MODIFIED:20221209T191330Z
UID:1305-1675359000-1675368000@ohioartscouncil.org
SUMMARY:Arts Beacon of Light Creative Writing Workshop with Nancy Kangas
DESCRIPTION:Join poet\, teaching artist\, and filmmaker Nancy Kangas for a creative writing workshop — an evening of thinking\, talking\, and creating poetry. Participants will find ways into writing using memories\, observations\, and eventually aim to create their own poems as wild\, tender and complex as life. Register at riffegallery.eventbrite.com to secure your seat.  \n\nImage and Statement Credit: Nancy Kangas
URL:https://ohioartscouncil.org/event/arts-beacon-of-light-creative-writing-workshop-with-nancy-kangas/
LOCATION:Riffe Gallery\, 77 S. High St.\, Columbus\, OH\, 43215-3414\, United States
CATEGORIES:Exhibition,Workshop
ATTACH;FMTTYPE=image/png:https://ohioartscouncil.org/wp-content/uploads/2022/12/nancykangas.png
END:VEVENT
BEGIN:VEVENT
DTSTART;TZID=America/New_York:20221214T120000
DTEND;TZID=America/New_York:20221214T130000
DTSTAMP:20260423T135130
CREATED:20220916T133006Z
LAST-MODIFIED:20220718T172820Z
UID:583-1671019200-1671022800@ohioartscouncil.org
SUMMARY:The Nexus of Art and Health Artist Talk with Laura Vinnedge
DESCRIPTION:Artists will share their artistic process\, journey\, and inspiration in live-streamed\, educational artist talks\, followed by Q&A session with the audience.
URL:https://ohioartscouncil.org/event/the-nexus-of-art-and-health-artist-talk-with-laura-vinnedge/
LOCATION:Riffe Gallery Online
CATEGORIES:Artist Talk,Exhibition
ATTACH;FMTTYPE=image/jpeg:https://ohioartscouncil.org/wp-content/uploads/2022/07/Laura-Vinnedge.jpg
END:VEVENT
BEGIN:VEVENT
DTSTART;TZID=America/New_York:20221207T120000
DTEND;TZID=America/New_York:20221207T130000
DTSTAMP:20260423T135130
CREATED:20220916T133028Z
LAST-MODIFIED:20220719T140311Z
UID:581-1670414400-1670418000@ohioartscouncil.org
SUMMARY:The Nexus of Art and Health Artist Talk with Nate Ricciuto
DESCRIPTION:Artists will share their artistic process\, journey\, and inspiration in a live-streamed\, educational artist talk\, followed by a Q&A session with the audience.
URL:https://ohioartscouncil.org/event/the-nexus-of-art-and-health-artist-talk-with-nate-ricciuto/
LOCATION:Riffe Gallery Online
CATEGORIES:Artist Talk,Exhibition
ATTACH;FMTTYPE=image/jpeg:https://ohioartscouncil.org/wp-content/uploads/2022/09/NATE-CMS.jpg
END:VEVENT
BEGIN:VEVENT
DTSTART;TZID=America/New_York:20221130T120000
DTEND;TZID=America/New_York:20221130T130000
DTSTAMP:20260423T135130
CREATED:20220916T133029Z
LAST-MODIFIED:20220719T141643Z
UID:579-1669809600-1669813200@ohioartscouncil.org
SUMMARY:The Nexus of Art and Health Artist Talk with Andrea LeBlond
DESCRIPTION:Artists will share their artistic process\, journey\, and inspiration in live-streamed\, educational artist talks\, followed by a Q&A session with the audience.
URL:https://ohioartscouncil.org/event/the-nexus-of-art-and-health-artist-talk-with-andrea-leblond/
LOCATION:Riffe Gallery Online
CATEGORIES:Artist Talk,Exhibition
ATTACH;FMTTYPE=image/jpeg:https://ohioartscouncil.org/wp-content/uploads/2022/09/ANDREA-CMS.jpg
END:VEVENT
END:VCALENDAR